BEGIN:VCALENDAR
VERSION:2.0
PRODID:-//Shipyard Brewing Company - ECPv6.15.20//NONSGML v1.0//EN
CALSCALE:GREGORIAN
METHOD:PUBLISH
X-ORIGINAL-URL:https://shipyard.com
X-WR-CALDESC:Events for Shipyard Brewing Company
REFRESH-INTERVAL;VALUE=DURATION:PT1H
X-Robots-Tag:noindex
X-PUBLISHED-TTL:PT1H
BEGIN:VTIMEZONE
TZID:America/New_York
BEGIN:DAYLIGHT
TZOFFSETFROM:-0500
TZOFFSETTO:-0400
TZNAME:EDT
DTSTART:20250309T070000
END:DAYLIGHT
BEGIN:STANDARD
TZOFFSETFROM:-0400
TZOFFSETTO:-0500
TZNAME:EST
DTSTART:20251102T060000
END:STANDARD
BEGIN:DAYLIGHT
TZOFFSETFROM:-0500
TZOFFSETTO:-0400
TZNAME:EDT
DTSTART:20260308T070000
END:DAYLIGHT
BEGIN:STANDARD
TZOFFSETFROM:-0400
TZOFFSETTO:-0500
TZNAME:EST
DTSTART:20261101T060000
END:STANDARD
BEGIN:DAYLIGHT
TZOFFSETFROM:-0500
TZOFFSETTO:-0400
TZNAME:EDT
DTSTART:20270314T070000
END:DAYLIGHT
BEGIN:STANDARD
TZOFFSETFROM:-0400
TZOFFSETTO:-0500
TZNAME:EST
DTSTART:20271107T060000
END:STANDARD
END:VTIMEZONE
BEGIN:VEVENT
DTSTART;TZID=America/New_York:20260302T174500
DTEND;TZID=America/New_York:20260302T190000
DTSTAMP:20260424T185310
CREATED:20260219T215931Z
LAST-MODIFIED:20260225T181506Z
UID:10000296-1772473500-1772478000@shipyard.com
SUMMARY:Portland Craft Circle Clay Workshop
DESCRIPTION:Gather your shells\, sea glass and shoreline souvenirs — it’s time to make something beautiful with them🌊 \nClay Workshop: Beach Finds \n\nMonday\, March 2nd\n5:45–7:00pm\nShipyard Brewing Company in Portland\, Maine\n\nUse air dry clay to craft your own shell catch-all dish — press shells in for an imprint\, build a mosaic with beach finds\, or carve little divets with your favorite rocks. Every piece is one-of-a-kind\, just like the memories behind it. \nWe’re kicking off the lead-up to the 2026 Women’s Wave at Willard Beach with an evening of making\, sharing and connecting. \nBring your beach treasures. Leave with new friends and something uniquely yours. \n🎟️ Tickets at portlandcraftcircle.com — space is limited!
URL:https://shipyard.com/event/portland-craft-circle-x-two-maine-mermaids/
LOCATION:Shipyard Tasting Room\, 27 Hancock St\, Portland\, Maine\, 04101\, United States
ATTACH;FMTTYPE=image/png:https://shipyard.com/wp-content/uploads/2026/02/clay-shell-workshop-at-shipyard.png
END:VEVENT
BEGIN:VEVENT
DTSTART;TZID=America/New_York:20260305T170000
DTEND;TZID=America/New_York:20260305T180000
DTSTAMP:20260424T185310
CREATED:20250514T125638Z
LAST-MODIFIED:20250514T131414Z
UID:10000047-1772730000-1772733600@shipyard.com
SUMMARY:Trivia Night
DESCRIPTION:Put your knowledge to the test at Trivia Night every Thursday at 5 and 6 PM at the Shipyard Brewing Co. Tasting Room — and it’s completely free to play! Join solo or bring your team to compete in two rounds of fun\, fast-paced trivia covering a mix of categories. Enjoy fresh Shipyard brews\, tasty snacks\, and a laid-back vibe while vying for prizes and bragging rights. Come for the trivia\, stay for the beer — every Thursday night!
URL:https://shipyard.com/event/trivia-night/2026-03-05/
LOCATION:Shipyard Brewing Company\, 27 Hancock Street\, Portland\, ME\, 04101\, United States
ATTACH;FMTTYPE=image/jpeg:https://shipyard.com/wp-content/uploads/2025/05/Shipyard-ThursdayTrivia-social-scaled.jpg
END:VEVENT
BEGIN:VEVENT
DTSTART;TZID=America/New_York:20260306T180000
DTEND;TZID=America/New_York:20260306T200000
DTSTAMP:20260424T185310
CREATED:20260219T221543Z
LAST-MODIFIED:20260219T235952Z
UID:10000298-1772820000-1772827200@shipyard.com
SUMMARY:Live Music: The After Dark Duo
DESCRIPTION:Join us at the Shipyard Tasting Room for an evening of live music with The After Dark Duo! \nKick back with a fresh pint and enjoy a high-energy mix of crowd favorites and feel-good classics. Whether you’re winding down your week or starting your night out\, it’s the perfect vibe for great beer\, great company\, and great music. \nNo cover — just good times. 🎶🍻
URL:https://shipyard.com/event/live-music-the-after-dark-duo/
LOCATION:Shipyard Brewing Company\, 27 Hancock Street\, Portland\, ME\, 04101\, United States
ATTACH;FMTTYPE=image/jpeg:https://shipyard.com/wp-content/uploads/2026/02/After-Dark-Duo-v2-scaled.jpg
END:VEVENT
BEGIN:VEVENT
DTSTART;TZID=America/New_York:20260311T180000
DTEND;TZID=America/New_York:20260311T200000
DTSTAMP:20260424T185310
CREATED:20251128T204504Z
LAST-MODIFIED:20251230T212342Z
UID:10000291-1773252000-1773259200@shipyard.com
SUMMARY:Live from the Barrel Room: Performers on the Rise
DESCRIPTION:Shipyard Tasting Room is thrilled to announce a brand new live music series hosted by local favorites Andi Fawcett and Don Campbell in collaboration with Shipyard Radio 207. \nThis series\, hosted in the brand new Shipyard Barrel Room\, will spotlight emerging local artists and give you an exciting behind-the-scenes look into the upcoming young artists you’ll want to keep an eye on. \n📅 Join us every other Wednesday starting January 14th\, 6-8PM\n🎤 Great Music. Great People. Great new space. \nCome be a part of it!
URL:https://shipyard.com/event/live-from-the-barrel-room/2026-03-11/
LOCATION:Shipyard Tasting Room\, 27 Hancock St\, Portland\, Maine\, 04101\, United States
ATTACH;FMTTYPE=image/jpeg:https://shipyard.com/wp-content/uploads/2025/11/2025.Shipyard.print_.5x7.jpg
END:VEVENT
BEGIN:VEVENT
DTSTART;TZID=America/New_York:20260312T170000
DTEND;TZID=America/New_York:20260312T180000
DTSTAMP:20260424T185310
CREATED:20250514T125638Z
LAST-MODIFIED:20250514T131414Z
UID:10000048-1773334800-1773338400@shipyard.com
SUMMARY:Trivia Night
DESCRIPTION:Put your knowledge to the test at Trivia Night every Thursday at 5 and 6 PM at the Shipyard Brewing Co. Tasting Room — and it’s completely free to play! Join solo or bring your team to compete in two rounds of fun\, fast-paced trivia covering a mix of categories. Enjoy fresh Shipyard brews\, tasty snacks\, and a laid-back vibe while vying for prizes and bragging rights. Come for the trivia\, stay for the beer — every Thursday night!
URL:https://shipyard.com/event/trivia-night/2026-03-12/
LOCATION:Shipyard Brewing Company\, 27 Hancock Street\, Portland\, ME\, 04101\, United States
ATTACH;FMTTYPE=image/jpeg:https://shipyard.com/wp-content/uploads/2025/05/Shipyard-ThursdayTrivia-social-scaled.jpg
END:VEVENT
BEGIN:VEVENT
DTSTART;TZID=America/New_York:20260313T173000
DTEND;TZID=America/New_York:20260313T193000
DTSTAMP:20260424T185310
CREATED:20260220T000522Z
LAST-MODIFIED:20260220T000522Z
UID:10000299-1773423000-1773430200@shipyard.com
SUMMARY:Live Music: Isaiah Bennett
DESCRIPTION:Join us at the Shipyard Tasting Room for an evening of live music with Isaiah Bennett! \nKick back with a fresh pint and enjoy a high-energy mix of original songs and feel-good classics. Whether you’re winding down your week or starting your night out\, it’s the perfect vibe for great beer\, great company\, and great music. \nNo cover — just good times. 🎶🍻
URL:https://shipyard.com/event/live-music-isaiah-bennett-2/
LOCATION:Shipyard Tasting Room\, 27 Hancock St\, Portland\, Maine\, 04101\, United States
ATTACH;FMTTYPE=image/jpeg:https://shipyard.com/wp-content/uploads/2026/02/Isaiah-Bennett.jpg
END:VEVENT
BEGIN:VEVENT
DTSTART;TZID=America/New_York:20260314T150000
DTEND;TZID=America/New_York:20260314T170000
DTSTAMP:20260424T185310
CREATED:20260220T002306Z
LAST-MODIFIED:20260220T002306Z
UID:10000300-1773500400-1773507600@shipyard.com
SUMMARY:Live Music: Don Campbell Trio and the Fife Irish Dancers
DESCRIPTION:Kick off St. Patrick’s Day weekend with an unforgettable night at the Shipyard Tasting Room! \nEnjoy live music from the Don Campbell Trio\, bringing lively tunes and Irish-inspired favorites to set the tone for the celebration. Plus\, don’t miss a special appearance by the Fife Irish Dancers\, adding high-energy traditional Irish dance to the evening. \nGrab a pint\, wear your green\, and start the St. Paddy’s festivities with us — it’s going to be a shamrockin’ good time! 🍀🎶🍻
URL:https://shipyard.com/event/live-music-don-campbell-trio-and-the-fife-irish-dancers/
LOCATION:Shipyard Tasting Room\, 27 Hancock St\, Portland\, Maine\, 04101\, United States
END:VEVENT
BEGIN:VEVENT
DTSTART;TZID=America/New_York:20260319T170000
DTEND;TZID=America/New_York:20260319T180000
DTSTAMP:20260424T185310
CREATED:20250514T125638Z
LAST-MODIFIED:20250514T131414Z
UID:10000049-1773939600-1773943200@shipyard.com
SUMMARY:Trivia Night
DESCRIPTION:Put your knowledge to the test at Trivia Night every Thursday at 5 and 6 PM at the Shipyard Brewing Co. Tasting Room — and it’s completely free to play! Join solo or bring your team to compete in two rounds of fun\, fast-paced trivia covering a mix of categories. Enjoy fresh Shipyard brews\, tasty snacks\, and a laid-back vibe while vying for prizes and bragging rights. Come for the trivia\, stay for the beer — every Thursday night!
URL:https://shipyard.com/event/trivia-night/2026-03-19/
LOCATION:Shipyard Brewing Company\, 27 Hancock Street\, Portland\, ME\, 04101\, United States
ATTACH;FMTTYPE=image/jpeg:https://shipyard.com/wp-content/uploads/2025/05/Shipyard-ThursdayTrivia-social-scaled.jpg
END:VEVENT
BEGIN:VEVENT
DTSTART;TZID=America/New_York:20260325T180000
DTEND;TZID=America/New_York:20260325T200000
DTSTAMP:20260424T185310
CREATED:20251128T204504Z
LAST-MODIFIED:20251230T212342Z
UID:10000292-1774461600-1774468800@shipyard.com
SUMMARY:Live from the Barrel Room: Performers on the Rise
DESCRIPTION:Shipyard Tasting Room is thrilled to announce a brand new live music series hosted by local favorites Andi Fawcett and Don Campbell in collaboration with Shipyard Radio 207. \nThis series\, hosted in the brand new Shipyard Barrel Room\, will spotlight emerging local artists and give you an exciting behind-the-scenes look into the upcoming young artists you’ll want to keep an eye on. \n📅 Join us every other Wednesday starting January 14th\, 6-8PM\n🎤 Great Music. Great People. Great new space. \nCome be a part of it!
URL:https://shipyard.com/event/live-from-the-barrel-room/2026-03-25/
LOCATION:Shipyard Tasting Room\, 27 Hancock St\, Portland\, Maine\, 04101\, United States
ATTACH;FMTTYPE=image/jpeg:https://shipyard.com/wp-content/uploads/2025/11/2025.Shipyard.print_.5x7.jpg
END:VEVENT
BEGIN:VEVENT
DTSTART;TZID=America/New_York:20260326T170000
DTEND;TZID=America/New_York:20260326T180000
DTSTAMP:20260424T185310
CREATED:20250514T125638Z
LAST-MODIFIED:20250514T131414Z
UID:10000050-1774544400-1774548000@shipyard.com
SUMMARY:Trivia Night
DESCRIPTION:Put your knowledge to the test at Trivia Night every Thursday at 5 and 6 PM at the Shipyard Brewing Co. Tasting Room — and it’s completely free to play! Join solo or bring your team to compete in two rounds of fun\, fast-paced trivia covering a mix of categories. Enjoy fresh Shipyard brews\, tasty snacks\, and a laid-back vibe while vying for prizes and bragging rights. Come for the trivia\, stay for the beer — every Thursday night!
URL:https://shipyard.com/event/trivia-night/2026-03-26/
LOCATION:Shipyard Brewing Company\, 27 Hancock Street\, Portland\, ME\, 04101\, United States
ATTACH;FMTTYPE=image/jpeg:https://shipyard.com/wp-content/uploads/2025/05/Shipyard-ThursdayTrivia-social-scaled.jpg
END:VEVENT
BEGIN:VEVENT
DTSTART;TZID=America/New_York:20260328T190000
DTEND;TZID=America/New_York:20260329T010000
DTSTAMP:20260424T185310
CREATED:20260219T221250Z
LAST-MODIFIED:20260219T221733Z
UID:10000297-1774724400-1774746000@shipyard.com
SUMMARY:Hivendell Spring Fantasy Faire: Rave Featuring The Hive & Bassix
DESCRIPTION:Our realm of rave will feature two enchanted stages filled with multi-genre magic\, sorcerous soundscapes\, and enchanted elixir drinks. \n\n🏰 Hivendell Spring Fantasy Faire 🏰 \nJoin us Saturday\, March 28th as we unite the noble houses of Hivendell for a Spring Fantasy Faire unlike any other. Our realm of rave will feature TWO enchanted stages filled with multi-genre magic\, sorcerous soundscapes\, and enchanted elixir drink specials from the brewers of the land. \nThe Kingdom’s three great houses gather once more to dance\, feast\, and revel beneath the banners of bass and brew. Gather thy fellowship. Don thy finest ren-faire garb. Step beyond the gates and into the kingdom of Hivendell. ⚔️🌿 \nThe show will run from 8:00 PM – 1:00 AM and is a 21+ event. Doors open at 7:00 PM. \nThe Hive & Guests Bassix Entertainment– a local community of music purveyors\, dancers\, and artists that gather to give the beautiful city of Portland art-fueled dance parties it deserves! Expect a full festival experience from The Hive & Bassix as they create two festival stages\, epic LED wall visuals\, and laser light show featuring Nocturnal Purple Lighting. \nThe party doesn’t stop with the music! Show off your eerie ensemble in our costume contest! The best-dressed costumes can win killer prizes. Costumes are 100% optional (but can make dancing more fun). \nSip on Shipyard Brewing favorites\, specialty cocktails\, Ice Pik Vodka Cocktails on draft\, and a variety of craft beer and wine. Whether you’re a seasoned raver\, fantasy lover or just looking for a fun night out with friends in Portland\, this Spring celebration can’t be missed.
URL:https://shipyard.com/event/hivendell-spring-fantasy-faire-rave-featuring-the-hive-bassix/
LOCATION:Shipyard Tasting Room\, 27 Hancock St\, Portland\, Maine\, 04101\, United States
ATTACH;FMTTYPE=image/jpeg:https://shipyard.com/wp-content/uploads/2026/02/image002-scaled.jpg
END:VEVENT
END:VCALENDAR