BEGIN:VCALENDAR
VERSION:2.0
PRODID:-//Shipyard Brewing Company - ECPv6.15.20//NONSGML v1.0//EN
CALSCALE:GREGORIAN
METHOD:PUBLISH
X-WR-CALNAME:Shipyard Brewing Company
X-ORIGINAL-URL:https://shipyard.com
X-WR-CALDESC:Events for Shipyard Brewing Company
REFRESH-INTERVAL;VALUE=DURATION:PT1H
X-Robots-Tag:noindex
X-PUBLISHED-TTL:PT1H
BEGIN:VTIMEZONE
TZID:America/New_York
BEGIN:DAYLIGHT
TZOFFSETFROM:-0500
TZOFFSETTO:-0400
TZNAME:EDT
DTSTART:20260308T070000
END:DAYLIGHT
BEGIN:STANDARD
TZOFFSETFROM:-0400
TZOFFSETTO:-0500
TZNAME:EST
DTSTART:20261101T060000
END:STANDARD
BEGIN:DAYLIGHT
TZOFFSETFROM:-0500
TZOFFSETTO:-0400
TZNAME:EDT
DTSTART:20270314T070000
END:DAYLIGHT
BEGIN:STANDARD
TZOFFSETFROM:-0400
TZOFFSETTO:-0500
TZNAME:EST
DTSTART:20271107T060000
END:STANDARD
BEGIN:DAYLIGHT
TZOFFSETFROM:-0500
TZOFFSETTO:-0400
TZNAME:EDT
DTSTART:20280312T070000
END:DAYLIGHT
BEGIN:STANDARD
TZOFFSETFROM:-0400
TZOFFSETTO:-0500
TZNAME:EST
DTSTART:20281105T060000
END:STANDARD
END:VTIMEZONE
BEGIN:VEVENT
DTSTART;TZID=America/New_York:20270701T170000
DTEND;TZID=America/New_York:20270701T190000
DTSTAMP:20260425T180025
CREATED:20260401T192323Z
LAST-MODIFIED:20260401T192324Z
UID:10000116-1814461200-1814468400@shipyard.com
SUMMARY:Trivia Night
DESCRIPTION:Put your knowledge to the test at Trivia Night every Thursday at 5 and 6 PM at the Shipyard Brewing Co. Tasting Room — and it’s completely free to play! Join solo or bring your team to compete in two rounds of fun\, fast-paced trivia covering a mix of categories. Enjoy fresh Shipyard brews\, tasty snacks\, and a laid-back vibe while vying for prizes and bragging rights. Come for the trivia\, stay for the beer — every Thursday night!
URL:https://shipyard.com/event/trivia-night-2/2027-07-01/
LOCATION:Shipyard Brewing Company\, 27 Hancock Street\, Portland\, ME\, 04101\, United States
ATTACH;FMTTYPE=image/jpeg:https://shipyard.com/wp-content/uploads/2025/05/Shipyard-ThursdayTrivia-social-scaled.jpg
END:VEVENT
BEGIN:VEVENT
DTSTART;TZID=America/New_York:20270708T170000
DTEND;TZID=America/New_York:20270708T190000
DTSTAMP:20260425T180025
CREATED:20260401T192323Z
LAST-MODIFIED:20260401T192324Z
UID:10000117-1815066000-1815073200@shipyard.com
SUMMARY:Trivia Night
DESCRIPTION:Put your knowledge to the test at Trivia Night every Thursday at 5 and 6 PM at the Shipyard Brewing Co. Tasting Room — and it’s completely free to play! Join solo or bring your team to compete in two rounds of fun\, fast-paced trivia covering a mix of categories. Enjoy fresh Shipyard brews\, tasty snacks\, and a laid-back vibe while vying for prizes and bragging rights. Come for the trivia\, stay for the beer — every Thursday night!
URL:https://shipyard.com/event/trivia-night-2/2027-07-08/
LOCATION:Shipyard Brewing Company\, 27 Hancock Street\, Portland\, ME\, 04101\, United States
ATTACH;FMTTYPE=image/jpeg:https://shipyard.com/wp-content/uploads/2025/05/Shipyard-ThursdayTrivia-social-scaled.jpg
END:VEVENT
BEGIN:VEVENT
DTSTART;TZID=America/New_York:20270715T170000
DTEND;TZID=America/New_York:20270715T190000
DTSTAMP:20260425T180025
CREATED:20260401T192323Z
LAST-MODIFIED:20260401T192324Z
UID:10000118-1815670800-1815678000@shipyard.com
SUMMARY:Trivia Night
DESCRIPTION:Put your knowledge to the test at Trivia Night every Thursday at 5 and 6 PM at the Shipyard Brewing Co. Tasting Room — and it’s completely free to play! Join solo or bring your team to compete in two rounds of fun\, fast-paced trivia covering a mix of categories. Enjoy fresh Shipyard brews\, tasty snacks\, and a laid-back vibe while vying for prizes and bragging rights. Come for the trivia\, stay for the beer — every Thursday night!
URL:https://shipyard.com/event/trivia-night-2/2027-07-15/
LOCATION:Shipyard Brewing Company\, 27 Hancock Street\, Portland\, ME\, 04101\, United States
ATTACH;FMTTYPE=image/jpeg:https://shipyard.com/wp-content/uploads/2025/05/Shipyard-ThursdayTrivia-social-scaled.jpg
END:VEVENT
BEGIN:VEVENT
DTSTART;TZID=America/New_York:20270722T170000
DTEND;TZID=America/New_York:20270722T190000
DTSTAMP:20260425T180025
CREATED:20260401T192323Z
LAST-MODIFIED:20260401T192324Z
UID:10000119-1816275600-1816282800@shipyard.com
SUMMARY:Trivia Night
DESCRIPTION:Put your knowledge to the test at Trivia Night every Thursday at 5 and 6 PM at the Shipyard Brewing Co. Tasting Room — and it’s completely free to play! Join solo or bring your team to compete in two rounds of fun\, fast-paced trivia covering a mix of categories. Enjoy fresh Shipyard brews\, tasty snacks\, and a laid-back vibe while vying for prizes and bragging rights. Come for the trivia\, stay for the beer — every Thursday night!
URL:https://shipyard.com/event/trivia-night-2/2027-07-22/
LOCATION:Shipyard Brewing Company\, 27 Hancock Street\, Portland\, ME\, 04101\, United States
ATTACH;FMTTYPE=image/jpeg:https://shipyard.com/wp-content/uploads/2025/05/Shipyard-ThursdayTrivia-social-scaled.jpg
END:VEVENT
BEGIN:VEVENT
DTSTART;TZID=America/New_York:20270729T170000
DTEND;TZID=America/New_York:20270729T190000
DTSTAMP:20260425T180025
CREATED:20260401T192323Z
LAST-MODIFIED:20260401T192324Z
UID:10000120-1816880400-1816887600@shipyard.com
SUMMARY:Trivia Night
DESCRIPTION:Put your knowledge to the test at Trivia Night every Thursday at 5 and 6 PM at the Shipyard Brewing Co. Tasting Room — and it’s completely free to play! Join solo or bring your team to compete in two rounds of fun\, fast-paced trivia covering a mix of categories. Enjoy fresh Shipyard brews\, tasty snacks\, and a laid-back vibe while vying for prizes and bragging rights. Come for the trivia\, stay for the beer — every Thursday night!
URL:https://shipyard.com/event/trivia-night-2/2027-07-29/
LOCATION:Shipyard Brewing Company\, 27 Hancock Street\, Portland\, ME\, 04101\, United States
ATTACH;FMTTYPE=image/jpeg:https://shipyard.com/wp-content/uploads/2025/05/Shipyard-ThursdayTrivia-social-scaled.jpg
END:VEVENT
END:VCALENDAR