BEGIN:VCALENDAR
VERSION:2.0
PRODID:-//Shipyard Brewing Company - ECPv6.15.20//NONSGML v1.0//EN
CALSCALE:GREGORIAN
METHOD:PUBLISH
X-WR-CALNAME:Shipyard Brewing Company
X-ORIGINAL-URL:https://shipyard.com
X-WR-CALDESC:Events for Shipyard Brewing Company
REFRESH-INTERVAL;VALUE=DURATION:PT1H
X-Robots-Tag:noindex
X-PUBLISHED-TTL:PT1H
BEGIN:VTIMEZONE
TZID:America/New_York
BEGIN:DAYLIGHT
TZOFFSETFROM:-0500
TZOFFSETTO:-0400
TZNAME:EDT
DTSTART:20260308T070000
END:DAYLIGHT
BEGIN:STANDARD
TZOFFSETFROM:-0400
TZOFFSETTO:-0500
TZNAME:EST
DTSTART:20261101T060000
END:STANDARD
BEGIN:DAYLIGHT
TZOFFSETFROM:-0500
TZOFFSETTO:-0400
TZNAME:EDT
DTSTART:20270314T070000
END:DAYLIGHT
BEGIN:STANDARD
TZOFFSETFROM:-0400
TZOFFSETTO:-0500
TZNAME:EST
DTSTART:20271107T060000
END:STANDARD
BEGIN:DAYLIGHT
TZOFFSETFROM:-0500
TZOFFSETTO:-0400
TZNAME:EDT
DTSTART:20280312T070000
END:DAYLIGHT
BEGIN:STANDARD
TZOFFSETFROM:-0400
TZOFFSETTO:-0500
TZNAME:EST
DTSTART:20281105T060000
END:STANDARD
END:VTIMEZONE
BEGIN:VEVENT
DTSTART;TZID=America/New_York:20270902T170000
DTEND;TZID=America/New_York:20270902T190000
DTSTAMP:20260425T212754
CREATED:20260401T192323Z
LAST-MODIFIED:20260401T192324Z
UID:10000125-1819904400-1819911600@shipyard.com
SUMMARY:Trivia Night
DESCRIPTION:Put your knowledge to the test at Trivia Night every Thursday at 5 and 6 PM at the Shipyard Brewing Co. Tasting Room — and it’s completely free to play! Join solo or bring your team to compete in two rounds of fun\, fast-paced trivia covering a mix of categories. Enjoy fresh Shipyard brews\, tasty snacks\, and a laid-back vibe while vying for prizes and bragging rights. Come for the trivia\, stay for the beer — every Thursday night!
URL:https://shipyard.com/event/trivia-night-2/2027-09-02/
LOCATION:Shipyard Brewing Company\, 27 Hancock Street\, Portland\, ME\, 04101\, United States
ATTACH;FMTTYPE=image/jpeg:https://shipyard.com/wp-content/uploads/2025/05/Shipyard-ThursdayTrivia-social-scaled.jpg
END:VEVENT
BEGIN:VEVENT
DTSTART;TZID=America/New_York:20270909T170000
DTEND;TZID=America/New_York:20270909T190000
DTSTAMP:20260425T212754
CREATED:20260401T192323Z
LAST-MODIFIED:20260401T192324Z
UID:10000126-1820509200-1820516400@shipyard.com
SUMMARY:Trivia Night
DESCRIPTION:Put your knowledge to the test at Trivia Night every Thursday at 5 and 6 PM at the Shipyard Brewing Co. Tasting Room — and it’s completely free to play! Join solo or bring your team to compete in two rounds of fun\, fast-paced trivia covering a mix of categories. Enjoy fresh Shipyard brews\, tasty snacks\, and a laid-back vibe while vying for prizes and bragging rights. Come for the trivia\, stay for the beer — every Thursday night!
URL:https://shipyard.com/event/trivia-night-2/2027-09-09/
LOCATION:Shipyard Brewing Company\, 27 Hancock Street\, Portland\, ME\, 04101\, United States
ATTACH;FMTTYPE=image/jpeg:https://shipyard.com/wp-content/uploads/2025/05/Shipyard-ThursdayTrivia-social-scaled.jpg
END:VEVENT
BEGIN:VEVENT
DTSTART;TZID=America/New_York:20270916T170000
DTEND;TZID=America/New_York:20270916T190000
DTSTAMP:20260425T212754
CREATED:20260401T192323Z
LAST-MODIFIED:20260401T192324Z
UID:10000127-1821114000-1821121200@shipyard.com
SUMMARY:Trivia Night
DESCRIPTION:Put your knowledge to the test at Trivia Night every Thursday at 5 and 6 PM at the Shipyard Brewing Co. Tasting Room — and it’s completely free to play! Join solo or bring your team to compete in two rounds of fun\, fast-paced trivia covering a mix of categories. Enjoy fresh Shipyard brews\, tasty snacks\, and a laid-back vibe while vying for prizes and bragging rights. Come for the trivia\, stay for the beer — every Thursday night!
URL:https://shipyard.com/event/trivia-night-2/2027-09-16/
LOCATION:Shipyard Brewing Company\, 27 Hancock Street\, Portland\, ME\, 04101\, United States
ATTACH;FMTTYPE=image/jpeg:https://shipyard.com/wp-content/uploads/2025/05/Shipyard-ThursdayTrivia-social-scaled.jpg
END:VEVENT
BEGIN:VEVENT
DTSTART;TZID=America/New_York:20270923T170000
DTEND;TZID=America/New_York:20270923T190000
DTSTAMP:20260425T212754
CREATED:20260401T192323Z
LAST-MODIFIED:20260401T192324Z
UID:10000128-1821718800-1821726000@shipyard.com
SUMMARY:Trivia Night
DESCRIPTION:Put your knowledge to the test at Trivia Night every Thursday at 5 and 6 PM at the Shipyard Brewing Co. Tasting Room — and it’s completely free to play! Join solo or bring your team to compete in two rounds of fun\, fast-paced trivia covering a mix of categories. Enjoy fresh Shipyard brews\, tasty snacks\, and a laid-back vibe while vying for prizes and bragging rights. Come for the trivia\, stay for the beer — every Thursday night!
URL:https://shipyard.com/event/trivia-night-2/2027-09-23/
LOCATION:Shipyard Brewing Company\, 27 Hancock Street\, Portland\, ME\, 04101\, United States
ATTACH;FMTTYPE=image/jpeg:https://shipyard.com/wp-content/uploads/2025/05/Shipyard-ThursdayTrivia-social-scaled.jpg
END:VEVENT
BEGIN:VEVENT
DTSTART;TZID=America/New_York:20270930T170000
DTEND;TZID=America/New_York:20270930T190000
DTSTAMP:20260425T212754
CREATED:20260401T192323Z
LAST-MODIFIED:20260401T192324Z
UID:10000129-1822323600-1822330800@shipyard.com
SUMMARY:Trivia Night
DESCRIPTION:Put your knowledge to the test at Trivia Night every Thursday at 5 and 6 PM at the Shipyard Brewing Co. Tasting Room — and it’s completely free to play! Join solo or bring your team to compete in two rounds of fun\, fast-paced trivia covering a mix of categories. Enjoy fresh Shipyard brews\, tasty snacks\, and a laid-back vibe while vying for prizes and bragging rights. Come for the trivia\, stay for the beer — every Thursday night!
URL:https://shipyard.com/event/trivia-night-2/2027-09-30/
LOCATION:Shipyard Brewing Company\, 27 Hancock Street\, Portland\, ME\, 04101\, United States
ATTACH;FMTTYPE=image/jpeg:https://shipyard.com/wp-content/uploads/2025/05/Shipyard-ThursdayTrivia-social-scaled.jpg
END:VEVENT
END:VCALENDAR