BEGIN:VCALENDAR
VERSION:2.0
PRODID:-//Shipyard Brewing Company - ECPv6.15.20//NONSGML v1.0//EN
CALSCALE:GREGORIAN
METHOD:PUBLISH
X-ORIGINAL-URL:https://shipyard.com
X-WR-CALDESC:Events for Shipyard Brewing Company
REFRESH-INTERVAL;VALUE=DURATION:PT1H
X-Robots-Tag:noindex
X-PUBLISHED-TTL:PT1H
BEGIN:VTIMEZONE
TZID:America/New_York
BEGIN:DAYLIGHT
TZOFFSETFROM:-0500
TZOFFSETTO:-0400
TZNAME:EDT
DTSTART:20240310T070000
END:DAYLIGHT
BEGIN:STANDARD
TZOFFSETFROM:-0400
TZOFFSETTO:-0500
TZNAME:EST
DTSTART:20241103T060000
END:STANDARD
BEGIN:DAYLIGHT
TZOFFSETFROM:-0500
TZOFFSETTO:-0400
TZNAME:EDT
DTSTART:20250309T070000
END:DAYLIGHT
BEGIN:STANDARD
TZOFFSETFROM:-0400
TZOFFSETTO:-0500
TZNAME:EST
DTSTART:20251102T060000
END:STANDARD
BEGIN:DAYLIGHT
TZOFFSETFROM:-0500
TZOFFSETTO:-0400
TZNAME:EDT
DTSTART:20260308T070000
END:DAYLIGHT
BEGIN:STANDARD
TZOFFSETFROM:-0400
TZOFFSETTO:-0500
TZNAME:EST
DTSTART:20261101T060000
END:STANDARD
BEGIN:DAYLIGHT
TZOFFSETFROM:-0500
TZOFFSETTO:-0400
TZNAME:EDT
DTSTART:20270314T070000
END:DAYLIGHT
BEGIN:STANDARD
TZOFFSETFROM:-0400
TZOFFSETTO:-0500
TZNAME:EST
DTSTART:20271107T060000
END:STANDARD
END:VTIMEZONE
BEGIN:VEVENT
DTSTART;TZID=America/New_York:20260424T180000
DTEND;TZID=America/New_York:20260424T200000
DTSTAMP:20260424T222447
CREATED:20260401T175509Z
LAST-MODIFIED:20260401T191946Z
UID:10000307-1777053600-1777060800@shipyard.com
SUMMARY:Live Music: Xander Nelson
DESCRIPTION:Catch an evening of live music at the Shipyard Tasting Room with Xander Nelson! Grab a pint\, relax with friends\, and enjoy a lively set of great tunes in a fun\, laid-back atmosphere. Perfect vibes\, cold beer\, and local music you won’t want to miss!
URL:https://shipyard.com/event/live-music-xander-nelson-3/
LOCATION:Shipyard Tasting Room\, 27 Hancock St\, Portland\, Maine\, 04101\, United States
ATTACH;FMTTYPE=image/jpeg:https://shipyard.com/wp-content/uploads/2025/11/Xander-Nelson-Music.jpg
END:VEVENT
BEGIN:VEVENT
DTSTART;TZID=America/New_York:20260421T180000
DTEND;TZID=America/New_York:20260421T200000
DTSTAMP:20260424T222447
CREATED:20260401T172336Z
LAST-MODIFIED:20260401T172336Z
UID:10000306-1776794400-1776801600@shipyard.com
SUMMARY:Live Music: Andi Fawcett
DESCRIPTION:Catch an evening of live music at the Shipyard Tasting Room with Andi Fawcett! Grab a pint\, relax with friends\, and enjoy a lively set of great tunes in a fun\, laid-back atmosphere. Perfect vibes\, cold beer\, and local music you won’t want to miss!
URL:https://shipyard.com/event/live-music-andi-fawcett-6/
LOCATION:Shipyard Tasting Room\, 27 Hancock St\, Portland\, Maine\, 04101\, United States
ATTACH;FMTTYPE=image/jpeg:https://shipyard.com/wp-content/uploads/2025/11/Andi-Fawcett-Promo-2.jpg
END:VEVENT
BEGIN:VEVENT
DTSTART;TZID=America/New_York:20260417T173000
DTEND;TZID=America/New_York:20260417T193000
DTSTAMP:20260424T222447
CREATED:20260401T171127Z
LAST-MODIFIED:20260401T171127Z
UID:10000304-1776447000-1776454200@shipyard.com
SUMMARY:Live Music: Toby McAllister
DESCRIPTION:Catch an evening of live music at the Shipyard Tasting Room featuring Toby McAllister! Grab a pint\, relax with friends\, and enjoy a lively set of great tunes in a fun\, laid-back atmosphere. Perfect vibes\, cold beer\, and local music you won’t want to miss!
URL:https://shipyard.com/event/live-music-toby-mcallister-3/
LOCATION:Shipyard Tasting Room\, 27 Hancock St\, Portland\, Maine\, 04101\, United States
ATTACH;FMTTYPE=image/jpeg:https://shipyard.com/wp-content/uploads/2025/11/Photo-20.jpeg
END:VEVENT
BEGIN:VEVENT
DTSTART;TZID=America/New_York:20260410T173000
DTEND;TZID=America/New_York:20260410T193000
DTSTAMP:20260424T222447
CREATED:20260401T170918Z
LAST-MODIFIED:20260401T170918Z
UID:10000303-1775842200-1775849400@shipyard.com
SUMMARY:Live Music: Isaiah Bennett
DESCRIPTION:Catch an evening of live music at the Shipyard Tasting Room featuring Isaiah Bennett! Grab a pint\, relax with friends\, and enjoy a lively set of great tunes in a fun\, laid-back atmosphere. Perfect vibes\, cold beer\, and local music you won’t want to miss!
URL:https://shipyard.com/event/live-music-isaiah-bennett-3/
LOCATION:Shipyard Tasting Room\, 27 Hancock St\, Portland\, Maine\, 04101\, United States
ATTACH;FMTTYPE=image/jpeg:https://shipyard.com/wp-content/uploads/2026/02/Isaiah-Bennett.jpg
END:VEVENT
BEGIN:VEVENT
DTSTART;TZID=America/New_York:20260408T180000
DTEND;TZID=America/New_York:20260408T200000
DTSTAMP:20260424T222447
CREATED:20260401T171958Z
LAST-MODIFIED:20260401T171958Z
UID:10000305-1775671200-1775678400@shipyard.com
SUMMARY:Andromeda Album Release Party
DESCRIPTION:Celebrate the release of Andromeda’s brand-new album at the Shipyard Tasting Room! Join us for a special night as they perform the entire album live\, start to finish. Grab a pint\, soak in the energy\, and be part of an unforgettable evening of fresh music and great vibes.
URL:https://shipyard.com/event/andromeda-album-release-party/
LOCATION:Shipyard Tasting Room\, 27 Hancock St\, Portland\, Maine\, 04101\, United States
ATTACH;FMTTYPE=image/png:https://shipyard.com/wp-content/uploads/2026/04/image1.png
END:VEVENT
BEGIN:VEVENT
DTSTART;TZID=America/New_York:20260403T180000
DTEND;TZID=America/New_York:20260403T200000
DTSTAMP:20260424T222447
CREATED:20260401T170554Z
LAST-MODIFIED:20260401T170631Z
UID:10000302-1775239200-1775246400@shipyard.com
SUMMARY:Live Music: The Bluehill Band
DESCRIPTION:Catch an evening of live music at the Shipyard Tasting Room featuring the Bluehill Band! Grab a pint\, relax with friends\, and enjoy a lively set of great tunes in a fun\, laid-back atmosphere. Perfect vibes\, cold beer\, and local music you won’t want to miss!
URL:https://shipyard.com/event/live-music-the-bluehill-band-2/
LOCATION:Shipyard Tasting Room\, 27 Hancock St\, Portland\, Maine\, 04101\, United States
ATTACH;FMTTYPE=image/jpeg:https://shipyard.com/wp-content/uploads/2026/02/Bluehill-Band-1.jpeg
END:VEVENT
BEGIN:VEVENT
DTSTART;TZID=America/New_York:20260328T190000
DTEND;TZID=America/New_York:20260329T010000
DTSTAMP:20260424T222447
CREATED:20260219T221250Z
LAST-MODIFIED:20260219T221733Z
UID:10000297-1774724400-1774746000@shipyard.com
SUMMARY:Hivendell Spring Fantasy Faire: Rave Featuring The Hive & Bassix
DESCRIPTION:Our realm of rave will feature two enchanted stages filled with multi-genre magic\, sorcerous soundscapes\, and enchanted elixir drinks. \n\n🏰 Hivendell Spring Fantasy Faire 🏰 \nJoin us Saturday\, March 28th as we unite the noble houses of Hivendell for a Spring Fantasy Faire unlike any other. Our realm of rave will feature TWO enchanted stages filled with multi-genre magic\, sorcerous soundscapes\, and enchanted elixir drink specials from the brewers of the land. \nThe Kingdom’s three great houses gather once more to dance\, feast\, and revel beneath the banners of bass and brew. Gather thy fellowship. Don thy finest ren-faire garb. Step beyond the gates and into the kingdom of Hivendell. ⚔️🌿 \nThe show will run from 8:00 PM – 1:00 AM and is a 21+ event. Doors open at 7:00 PM. \nThe Hive & Guests Bassix Entertainment– a local community of music purveyors\, dancers\, and artists that gather to give the beautiful city of Portland art-fueled dance parties it deserves! Expect a full festival experience from The Hive & Bassix as they create two festival stages\, epic LED wall visuals\, and laser light show featuring Nocturnal Purple Lighting. \nThe party doesn’t stop with the music! Show off your eerie ensemble in our costume contest! The best-dressed costumes can win killer prizes. Costumes are 100% optional (but can make dancing more fun). \nSip on Shipyard Brewing favorites\, specialty cocktails\, Ice Pik Vodka Cocktails on draft\, and a variety of craft beer and wine. Whether you’re a seasoned raver\, fantasy lover or just looking for a fun night out with friends in Portland\, this Spring celebration can’t be missed.
URL:https://shipyard.com/event/hivendell-spring-fantasy-faire-rave-featuring-the-hive-bassix/
LOCATION:Shipyard Tasting Room\, 27 Hancock St\, Portland\, Maine\, 04101\, United States
ATTACH;FMTTYPE=image/jpeg:https://shipyard.com/wp-content/uploads/2026/02/image002-scaled.jpg
END:VEVENT
BEGIN:VEVENT
DTSTART;TZID=America/New_York:20260325T180000
DTEND;TZID=America/New_York:20260325T200000
DTSTAMP:20260424T222447
CREATED:20251128T204504Z
LAST-MODIFIED:20251230T212342Z
UID:10000292-1774461600-1774468800@shipyard.com
SUMMARY:Live from the Barrel Room: Performers on the Rise
DESCRIPTION:Shipyard Tasting Room is thrilled to announce a brand new live music series hosted by local favorites Andi Fawcett and Don Campbell in collaboration with Shipyard Radio 207. \nThis series\, hosted in the brand new Shipyard Barrel Room\, will spotlight emerging local artists and give you an exciting behind-the-scenes look into the upcoming young artists you’ll want to keep an eye on. \n📅 Join us every other Wednesday starting January 14th\, 6-8PM\n🎤 Great Music. Great People. Great new space. \nCome be a part of it!
URL:https://shipyard.com/event/live-from-the-barrel-room/2026-03-25/
LOCATION:Shipyard Tasting Room\, 27 Hancock St\, Portland\, Maine\, 04101\, United States
ATTACH;FMTTYPE=image/jpeg:https://shipyard.com/wp-content/uploads/2025/11/2025.Shipyard.print_.5x7.jpg
END:VEVENT
BEGIN:VEVENT
DTSTART;TZID=America/New_York:20260314T150000
DTEND;TZID=America/New_York:20260314T170000
DTSTAMP:20260424T222447
CREATED:20260220T002306Z
LAST-MODIFIED:20260220T002306Z
UID:10000300-1773500400-1773507600@shipyard.com
SUMMARY:Live Music: Don Campbell Trio and the Fife Irish Dancers
DESCRIPTION:Kick off St. Patrick’s Day weekend with an unforgettable night at the Shipyard Tasting Room! \nEnjoy live music from the Don Campbell Trio\, bringing lively tunes and Irish-inspired favorites to set the tone for the celebration. Plus\, don’t miss a special appearance by the Fife Irish Dancers\, adding high-energy traditional Irish dance to the evening. \nGrab a pint\, wear your green\, and start the St. Paddy’s festivities with us — it’s going to be a shamrockin’ good time! 🍀🎶🍻
URL:https://shipyard.com/event/live-music-don-campbell-trio-and-the-fife-irish-dancers/
LOCATION:Shipyard Tasting Room\, 27 Hancock St\, Portland\, Maine\, 04101\, United States
END:VEVENT
BEGIN:VEVENT
DTSTART;TZID=America/New_York:20260313T173000
DTEND;TZID=America/New_York:20260313T193000
DTSTAMP:20260424T222447
CREATED:20260220T000522Z
LAST-MODIFIED:20260220T000522Z
UID:10000299-1773423000-1773430200@shipyard.com
SUMMARY:Live Music: Isaiah Bennett
DESCRIPTION:Join us at the Shipyard Tasting Room for an evening of live music with Isaiah Bennett! \nKick back with a fresh pint and enjoy a high-energy mix of original songs and feel-good classics. Whether you’re winding down your week or starting your night out\, it’s the perfect vibe for great beer\, great company\, and great music. \nNo cover — just good times. 🎶🍻
URL:https://shipyard.com/event/live-music-isaiah-bennett-2/
LOCATION:Shipyard Tasting Room\, 27 Hancock St\, Portland\, Maine\, 04101\, United States
ATTACH;FMTTYPE=image/jpeg:https://shipyard.com/wp-content/uploads/2026/02/Isaiah-Bennett.jpg
END:VEVENT
BEGIN:VEVENT
DTSTART;TZID=America/New_York:20260311T180000
DTEND;TZID=America/New_York:20260311T200000
DTSTAMP:20260424T222447
CREATED:20251128T204504Z
LAST-MODIFIED:20251230T212342Z
UID:10000291-1773252000-1773259200@shipyard.com
SUMMARY:Live from the Barrel Room: Performers on the Rise
DESCRIPTION:Shipyard Tasting Room is thrilled to announce a brand new live music series hosted by local favorites Andi Fawcett and Don Campbell in collaboration with Shipyard Radio 207. \nThis series\, hosted in the brand new Shipyard Barrel Room\, will spotlight emerging local artists and give you an exciting behind-the-scenes look into the upcoming young artists you’ll want to keep an eye on. \n📅 Join us every other Wednesday starting January 14th\, 6-8PM\n🎤 Great Music. Great People. Great new space. \nCome be a part of it!
URL:https://shipyard.com/event/live-from-the-barrel-room/2026-03-11/
LOCATION:Shipyard Tasting Room\, 27 Hancock St\, Portland\, Maine\, 04101\, United States
ATTACH;FMTTYPE=image/jpeg:https://shipyard.com/wp-content/uploads/2025/11/2025.Shipyard.print_.5x7.jpg
END:VEVENT
BEGIN:VEVENT
DTSTART;TZID=America/New_York:20260302T174500
DTEND;TZID=America/New_York:20260302T190000
DTSTAMP:20260424T222447
CREATED:20260219T215931Z
LAST-MODIFIED:20260225T181506Z
UID:10000296-1772473500-1772478000@shipyard.com
SUMMARY:Portland Craft Circle Clay Workshop
DESCRIPTION:Gather your shells\, sea glass and shoreline souvenirs — it’s time to make something beautiful with them🌊 \nClay Workshop: Beach Finds \n\nMonday\, March 2nd\n5:45–7:00pm\nShipyard Brewing Company in Portland\, Maine\n\nUse air dry clay to craft your own shell catch-all dish — press shells in for an imprint\, build a mosaic with beach finds\, or carve little divets with your favorite rocks. Every piece is one-of-a-kind\, just like the memories behind it. \nWe’re kicking off the lead-up to the 2026 Women’s Wave at Willard Beach with an evening of making\, sharing and connecting. \nBring your beach treasures. Leave with new friends and something uniquely yours. \n🎟️ Tickets at portlandcraftcircle.com — space is limited!
URL:https://shipyard.com/event/portland-craft-circle-x-two-maine-mermaids/
LOCATION:Shipyard Tasting Room\, 27 Hancock St\, Portland\, Maine\, 04101\, United States
ATTACH;FMTTYPE=image/png:https://shipyard.com/wp-content/uploads/2026/02/clay-shell-workshop-at-shipyard.png
END:VEVENT
BEGIN:VEVENT
DTSTART;TZID=America/New_York:20260227T180000
DTEND;TZID=America/New_York:20260227T200000
DTSTAMP:20260424T222447
CREATED:20260220T003309Z
LAST-MODIFIED:20260220T003309Z
UID:10000301-1772215200-1772222400@shipyard.com
SUMMARY:Live Music: The Bluehill Band
DESCRIPTION:Join us at the Shipyard Tasting Room for an evening of live music with the Bluehill Band! \nKick back with a fresh pint and enjoy a mix of crowd favorites and feel-good classics. Whether you’re winding down your week or starting your night out\, it’s the perfect vibe for great beer\, great company\, and great music. \nNo cover — just good times. 🎶🍻
URL:https://shipyard.com/event/live-music-the-bluehill-band/
LOCATION:Shipyard Tasting Room\, 27 Hancock St\, Portland\, Maine\, 04101\, United States
ATTACH;FMTTYPE=image/jpeg:https://shipyard.com/wp-content/uploads/2026/02/Bluehill-Band-1.jpeg
END:VEVENT
BEGIN:VEVENT
DTSTART;TZID=America/New_York:20260225T180000
DTEND;TZID=America/New_York:20260225T200000
DTSTAMP:20260424T222447
CREATED:20251128T204504Z
LAST-MODIFIED:20251230T212342Z
UID:10000290-1772042400-1772049600@shipyard.com
SUMMARY:Live from the Barrel Room: Performers on the Rise
DESCRIPTION:Shipyard Tasting Room is thrilled to announce a brand new live music series hosted by local favorites Andi Fawcett and Don Campbell in collaboration with Shipyard Radio 207. \nThis series\, hosted in the brand new Shipyard Barrel Room\, will spotlight emerging local artists and give you an exciting behind-the-scenes look into the upcoming young artists you’ll want to keep an eye on. \n📅 Join us every other Wednesday starting January 14th\, 6-8PM\n🎤 Great Music. Great People. Great new space. \nCome be a part of it!
URL:https://shipyard.com/event/live-from-the-barrel-room/2026-02-25/
LOCATION:Shipyard Tasting Room\, 27 Hancock St\, Portland\, Maine\, 04101\, United States
ATTACH;FMTTYPE=image/jpeg:https://shipyard.com/wp-content/uploads/2025/11/2025.Shipyard.print_.5x7.jpg
END:VEVENT
BEGIN:VEVENT
DTSTART;TZID=America/New_York:20260213T173000
DTEND;TZID=America/New_York:20260213T193000
DTSTAMP:20260424T222447
CREATED:20260120T193631Z
LAST-MODIFIED:20260120T193631Z
UID:10000295-1771003800-1771011000@shipyard.com
SUMMARY:Live Music: Isaiah Bennett
DESCRIPTION:Nothing pairs better with great beer than live music. Come hang out with us and enjoy the show! \nCraft Beer • Live Music • No Cover
URL:https://shipyard.com/event/live-music-isaiah-bennett/
LOCATION:Shipyard Tasting Room\, 27 Hancock St\, Portland\, Maine\, 04101\, United States
END:VEVENT
BEGIN:VEVENT
DTSTART;TZID=America/New_York:20260211T180000
DTEND;TZID=America/New_York:20260211T200000
DTSTAMP:20260424T222447
CREATED:20251128T204504Z
LAST-MODIFIED:20251230T212342Z
UID:10000289-1770832800-1770840000@shipyard.com
SUMMARY:Live from the Barrel Room: Performers on the Rise
DESCRIPTION:Shipyard Tasting Room is thrilled to announce a brand new live music series hosted by local favorites Andi Fawcett and Don Campbell in collaboration with Shipyard Radio 207. \nThis series\, hosted in the brand new Shipyard Barrel Room\, will spotlight emerging local artists and give you an exciting behind-the-scenes look into the upcoming young artists you’ll want to keep an eye on. \n📅 Join us every other Wednesday starting January 14th\, 6-8PM\n🎤 Great Music. Great People. Great new space. \nCome be a part of it!
URL:https://shipyard.com/event/live-from-the-barrel-room/2026-02-11/
LOCATION:Shipyard Tasting Room\, 27 Hancock St\, Portland\, Maine\, 04101\, United States
ATTACH;FMTTYPE=image/jpeg:https://shipyard.com/wp-content/uploads/2025/11/2025.Shipyard.print_.5x7.jpg
END:VEVENT
BEGIN:VEVENT
DTSTART;TZID=America/New_York:20260206T170000
DTEND;TZID=America/New_York:20260206T193000
DTSTAMP:20260424T222447
CREATED:20260120T193510Z
LAST-MODIFIED:20260122T181459Z
UID:10000294-1770397200-1770406200@shipyard.com
SUMMARY:Live Music: Wacko Magnet Live!
DESCRIPTION:Live music is calling! Grab a drink\, bring your friends\, and join us for great tunes and good vibes at the Tasting Room. \nCraft Brews • Live Music • No Cover
URL:https://shipyard.com/event/live-music-wacko-management-live/
LOCATION:Shipyard Tasting Room\, 27 Hancock St\, Portland\, Maine\, 04101\, United States
END:VEVENT
BEGIN:VEVENT
DTSTART;TZID=America/New_York:20260203T180000
DTEND;TZID=America/New_York:20260203T200000
DTSTAMP:20260424T222447
CREATED:20260120T193135Z
LAST-MODIFIED:20260120T193135Z
UID:10000293-1770141600-1770148800@shipyard.com
SUMMARY:Live Music: Andi Fawcett
DESCRIPTION:Experience live music at the Shipyard Tasting Room—where craft beer meets great local talent. Come enjoy a laid-back night filled with sound\, flavor\, and community. \nCraft Brews • Live Music • No Cover
URL:https://shipyard.com/event/live-music-andi-fawcett-5/
LOCATION:Shipyard Tasting Room\, 27 Hancock St\, Portland\, Maine\, 04101\, United States
ATTACH;FMTTYPE=image/jpeg:https://shipyard.com/wp-content/uploads/2025/11/Andi-Fawcett-Promo-2.jpg
END:VEVENT
BEGIN:VEVENT
DTSTART;TZID=America/New_York:20260128T180000
DTEND;TZID=America/New_York:20260128T200000
DTSTAMP:20260424T222447
CREATED:20251128T204504Z
LAST-MODIFIED:20251230T212342Z
UID:10000288-1769623200-1769630400@shipyard.com
SUMMARY:Live from the Barrel Room: Performers on the Rise
DESCRIPTION:Shipyard Tasting Room is thrilled to announce a brand new live music series hosted by local favorites Andi Fawcett and Don Campbell in collaboration with Shipyard Radio 207. \nThis series\, hosted in the brand new Shipyard Barrel Room\, will spotlight emerging local artists and give you an exciting behind-the-scenes look into the upcoming young artists you’ll want to keep an eye on. \n📅 Join us every other Wednesday starting January 14th\, 6-8PM\n🎤 Great Music. Great People. Great new space. \nCome be a part of it!
URL:https://shipyard.com/event/live-from-the-barrel-room/2026-01-28/
LOCATION:Shipyard Tasting Room\, 27 Hancock St\, Portland\, Maine\, 04101\, United States
ATTACH;FMTTYPE=image/jpeg:https://shipyard.com/wp-content/uploads/2025/11/2025.Shipyard.print_.5x7.jpg
END:VEVENT
BEGIN:VEVENT
DTSTART;TZID=America/New_York:20260114T180000
DTEND;TZID=America/New_York:20260114T200000
DTSTAMP:20260424T222447
CREATED:20251128T204504Z
LAST-MODIFIED:20251230T212342Z
UID:10000287-1768413600-1768420800@shipyard.com
SUMMARY:Live from the Barrel Room: Performers on the Rise
DESCRIPTION:Shipyard Tasting Room is thrilled to announce a brand new live music series hosted by local favorites Andi Fawcett and Don Campbell in collaboration with Shipyard Radio 207. \nThis series\, hosted in the brand new Shipyard Barrel Room\, will spotlight emerging local artists and give you an exciting behind-the-scenes look into the upcoming young artists you’ll want to keep an eye on. \n📅 Join us every other Wednesday starting January 14th\, 6-8PM\n🎤 Great Music. Great People. Great new space. \nCome be a part of it!
URL:https://shipyard.com/event/live-from-the-barrel-room/2026-01-14/
LOCATION:Shipyard Tasting Room\, 27 Hancock St\, Portland\, Maine\, 04101\, United States
ATTACH;FMTTYPE=image/jpeg:https://shipyard.com/wp-content/uploads/2025/11/2025.Shipyard.print_.5x7.jpg
END:VEVENT
BEGIN:VEVENT
DTSTART;TZID=America/New_York:20250906T170000
DTEND;TZID=America/New_York:20250906T200000
DTSTAMP:20260424T222447
CREATED:20250702T161617Z
LAST-MODIFIED:20250702T162206Z
UID:10000276-1757178000-1757188800@shipyard.com
SUMMARY:LIVE MUSIC: Don Campbell
DESCRIPTION:A FREE event! Experience an unforgettable evening of live music with the Don Campbell Band at Shipyard Brewing Company’s Tasting Room in Portland\, Maine. This intimate venue offers an ideal setting to enjoy the band’s signature blend of Americana\, country\, and rock influences\, all while sipping on Shipyard’s renowned craft brews.
URL:https://shipyard.com/event/live-music-don-campbell/
LOCATION:Shipyard Tasting Room\, 27 Hancock St\, Portland\, Maine\, 04101\, United States
END:VEVENT
BEGIN:VEVENT
DTSTART;TZID=America/New_York:20250820T173000
DTEND;TZID=America/New_York:20250820T193000
DTSTAMP:20260424T222447
CREATED:20250701T140113Z
LAST-MODIFIED:20250701T140113Z
UID:10000274-1755711000-1755718200@shipyard.com
SUMMARY:LIVE MUSIC: Xander Nelson
DESCRIPTION:Stop by the Shipyard tasting room for FREE live music from Xander Nelson! Fearlessly fusing the joyous intensity of garage rock and pop-punk with the soulful swagger of blues\, this Portland\, Maine based singer and guitarist has been turning heads since his debut in the New England music circuit in 2017.
URL:https://shipyard.com/event/live-music-xander-nelson/
LOCATION:Shipyard Tasting Room\, 27 Hancock St\, Portland\, Maine\, 04101\, United States
END:VEVENT
BEGIN:VEVENT
DTSTART;TZID=America/New_York:20250730T173000
DTEND;TZID=America/New_York:20250730T193000
DTSTAMP:20260424T222447
CREATED:20250701T135812Z
LAST-MODIFIED:20250701T135812Z
UID:10000273-1753896600-1753903800@shipyard.com
SUMMARY:LIVE MUSIC: Toby McAllister
DESCRIPTION:Live music from Toby McAllister at the Shipyard tasting room this July 30th. The state of Maine is known for its cold winters\, and picture perfect summers. It’s hard not to be inspired by the beauty of the changing seasons\, and that’s what you’ll find in Toby’s music.
URL:https://shipyard.com/event/live-music-toby-mcallister/
LOCATION:Shipyard Tasting Room\, 27 Hancock St\, Portland\, Maine\, 04101\, United States
END:VEVENT
BEGIN:VEVENT
DTSTART;TZID=America/New_York:20250725T173000
DTEND;TZID=America/New_York:20250725T193000
DTSTAMP:20260424T222447
CREATED:20250701T135345Z
LAST-MODIFIED:20250711T215146Z
UID:10000272-1753464600-1753471800@shipyard.com
SUMMARY:LIVE MUSIC: Dueling Pianos
DESCRIPTION:Live music from the Dueling Pianos is back at the Shipyard Tasting Room July 25th! A high energy show filled with all the great hits of the decades from Elton to Billy and Sinatra to Bruno. \nBUY YOUR TICKETS BEFORE THEY SELL OUT: https://www.eventbrite.com/e/dueling-pianos-with-jim-ciampi-and-seth-holbrook-tickets-1369002737039
URL:https://shipyard.com/event/live-music-dueling-pianos/
LOCATION:Shipyard Tasting Room\, 27 Hancock St\, Portland\, Maine\, 04101\, United States
END:VEVENT
BEGIN:VEVENT
DTSTART;TZID=America/New_York:20250716T173000
DTEND;TZID=America/New_York:20250716T193000
DTSTAMP:20260424T222447
CREATED:20250701T133603Z
LAST-MODIFIED:20250701T133603Z
UID:10000271-1752687000-1752694200@shipyard.com
SUMMARY:LIVE MUSIC: Jacob McCurdy
DESCRIPTION:Stop by the Shipyard tasting room for FREE live music from Jacob McCurdy! Mustachioed Mainer\, Jacob McCurdy\, blends folk\, rock\, and roots into his very own brand of indie-americana. McCurdy wears his heart on his sleeve\, captivating audiences with honest lyricism and soulful melodies. Through collaborative songwriting and a commitment to authenticity\, he shares his songs with the hope that others can heal from his experiences and enjoy a glimpse of what the future might bring.
URL:https://shipyard.com/event/live-music-jacob-mccurdy/
LOCATION:Shipyard Tasting Room\, 27 Hancock St\, Portland\, Maine\, 04101\, United States
END:VEVENT
BEGIN:VEVENT
DTSTART;TZID=America/New_York:20250714T173000
DTEND;TZID=America/New_York:20250714T193000
DTSTAMP:20260424T222447
CREATED:20250702T161156Z
LAST-MODIFIED:20250702T161156Z
UID:10000275-1752514200-1752521400@shipyard.com
SUMMARY:Pinball Tournament
DESCRIPTION:Come for the pinball\, stay for the beer! \nJoin us for our 3rd IFPA sanctioned pinball tournament. Win cash prizes and Shipyard Swag and play away on any of our 6 pinball machines!
URL:https://shipyard.com/event/pinball-tournament/
LOCATION:Shipyard Tasting Room\, 27 Hancock St\, Portland\, Maine\, 04101\, United States
END:VEVENT
BEGIN:VEVENT
DTSTART;TZID=America/New_York:20250709T173000
DTEND;TZID=America/New_York:20250709T193000
DTSTAMP:20260424T222447
CREATED:20250701T132308Z
LAST-MODIFIED:20250701T132308Z
UID:10000269-1752082200-1752089400@shipyard.com
SUMMARY:LIVE MUSIC: Shannon Davis
DESCRIPTION:Stop by the Shipyard tasting room for FREE live music from Shannon Davis! Shannon Davis is an award-winning singer-songwriter from Cape Cod\, Massachusetts. Her debut album\, “Tell Me a Story\,” released in October 2023\, was produced and recorded by Grammy-nominated producer Jon Evans.
URL:https://shipyard.com/event/live-music-shannon-davis/
LOCATION:Shipyard Tasting Room\, 27 Hancock St\, Portland\, Maine\, 04101\, United States
END:VEVENT
BEGIN:VEVENT
DTSTART;TZID=America/New_York:20250702T173000
DTEND;TZID=America/New_York:20250702T193000
DTSTAMP:20260424T222447
CREATED:20250701T132723Z
LAST-MODIFIED:20250701T132723Z
UID:10000270-1751477400-1751484600@shipyard.com
SUMMARY:LIVE MUSIC: Buck Edwards
DESCRIPTION:Enjoy FREE live music from Buck Edwards at the Shipyard Tasting Room on July 2nd! An American treasure who has written over 1000 songs\, and released 20 albums\, Buck T Edwards music is aging like a fine wine and gets better with every listen. Known for his energetic live shows\, Buck has built up a Killer concert set that highlights the best of his many releases.
URL:https://shipyard.com/event/live-music-buck-edwards/
LOCATION:Shipyard Tasting Room\, 27 Hancock St\, Portland\, Maine\, 04101\, United States
END:VEVENT
END:VCALENDAR