BEGIN:VCALENDAR
VERSION:2.0
PRODID:-//Shipyard Brewing Company - ECPv6.15.20//NONSGML v1.0//EN
CALSCALE:GREGORIAN
METHOD:PUBLISH
X-WR-CALNAME:Shipyard Brewing Company
X-ORIGINAL-URL:https://shipyard.com
X-WR-CALDESC:Events for Shipyard Brewing Company
REFRESH-INTERVAL;VALUE=DURATION:PT1H
X-Robots-Tag:noindex
X-PUBLISHED-TTL:PT1H
BEGIN:VTIMEZONE
TZID:America/New_York
BEGIN:DAYLIGHT
TZOFFSETFROM:-0500
TZOFFSETTO:-0400
TZNAME:EDT
DTSTART:20250309T070000
END:DAYLIGHT
BEGIN:STANDARD
TZOFFSETFROM:-0400
TZOFFSETTO:-0500
TZNAME:EST
DTSTART:20251102T060000
END:STANDARD
BEGIN:DAYLIGHT
TZOFFSETFROM:-0500
TZOFFSETTO:-0400
TZNAME:EDT
DTSTART:20260308T070000
END:DAYLIGHT
BEGIN:STANDARD
TZOFFSETFROM:-0400
TZOFFSETTO:-0500
TZNAME:EST
DTSTART:20261101T060000
END:STANDARD
BEGIN:DAYLIGHT
TZOFFSETFROM:-0500
TZOFFSETTO:-0400
TZNAME:EDT
DTSTART:20270314T070000
END:DAYLIGHT
BEGIN:STANDARD
TZOFFSETFROM:-0400
TZOFFSETTO:-0500
TZNAME:EST
DTSTART:20271107T060000
END:STANDARD
END:VTIMEZONE
BEGIN:VEVENT
DTSTART;TZID=America/New_York:20260501T170000
DTEND;TZID=America/New_York:20260501T200000
DTSTAMP:20260424T221736
CREATED:20260401T193350Z
LAST-MODIFIED:20260401T193350Z
UID:10000354-1777654800-1777665600@shipyard.com
SUMMARY:Dueling Pianos with Seth Holbrook & Jim Ciampi
DESCRIPTION:The Tasting Room welcomes back Dueling Pianos with Seth Holbrook and Jim Ciampi for an unforgettable light of singing\, dancing\, and rocking out to your favorite tunes! Get your tickets today\, you won’t want to miss it! 🎶🎹💃 \n  \n 
URL:https://shipyard.com/event/dueling-pianos-with-seth-holbrook-jim-ciampi/
LOCATION:Shipyard Tasting Room\, 27 Hancock St\, Portland\, Maine\, 04101\, United States
END:VEVENT
END:VCALENDAR